BEGIN:VCALENDAR
VERSION:2.0
PRODID:-//Altruppersdorf - ECPv6.15.18//NONSGML v1.0//EN
CALSCALE:GREGORIAN
METHOD:PUBLISH
X-WR-CALNAME:Altruppersdorf
X-ORIGINAL-URL:https://www.altruppersdorf.at
X-WR-CALDESC:Veranstaltungen für Altruppersdorf
REFRESH-INTERVAL;VALUE=DURATION:PT1H
X-Robots-Tag:noindex
X-PUBLISHED-TTL:PT1H
BEGIN:VTIMEZONE
TZID:Europe/Vienna
BEGIN:DAYLIGHT
TZOFFSETFROM:+0100
TZOFFSETTO:+0200
TZNAME:CEST
DTSTART:20250330T010000
END:DAYLIGHT
BEGIN:STANDARD
TZOFFSETFROM:+0200
TZOFFSETTO:+0100
TZNAME:CET
DTSTART:20251026T010000
END:STANDARD
BEGIN:DAYLIGHT
TZOFFSETFROM:+0100
TZOFFSETTO:+0200
TZNAME:CEST
DTSTART:20260329T010000
END:DAYLIGHT
BEGIN:STANDARD
TZOFFSETFROM:+0200
TZOFFSETTO:+0100
TZNAME:CET
DTSTART:20261025T010000
END:STANDARD
BEGIN:DAYLIGHT
TZOFFSETFROM:+0100
TZOFFSETTO:+0200
TZNAME:CEST
DTSTART:20270328T010000
END:DAYLIGHT
BEGIN:STANDARD
TZOFFSETFROM:+0200
TZOFFSETTO:+0100
TZNAME:CET
DTSTART:20271031T010000
END:STANDARD
END:VTIMEZONE
BEGIN:VEVENT
DTSTART;VALUE=DATE:20260421
DTEND;VALUE=DATE:20260422
DTSTAMP:20260421T134126
CREATED:20260308T063906Z
LAST-MODIFIED:20260308T063906Z
UID:8430-1776729600-1776815999@www.altruppersdorf.at
SUMMARY:Biotonne
DESCRIPTION:
URL:https://www.altruppersdorf.at/event/biotonne-115/
LOCATION:Altruppersdorf\, Altruppersdorf\, Niederösterreich\, 2135\, Österreich
CATEGORIES:Müllabfuhr
END:VEVENT
BEGIN:VEVENT
DTSTART;VALUE=DATE:20260426
DTEND;VALUE=DATE:20260427
DTSTAMP:20260421T134126
CREATED:20260308T063939Z
LAST-MODIFIED:20260308T063939Z
UID:8432-1777161600-1777247999@www.altruppersdorf.at
SUMMARY:Floriani
DESCRIPTION:
URL:https://www.altruppersdorf.at/event/floriani/
LOCATION:Feuerwehrhaus\, Obere Hauptstraße 29\, Altruppersdorf\, Niederösterreich\, 2135\, Österreich
CATEGORIES:Veranstaltungen
END:VEVENT
BEGIN:VEVENT
DTSTART;VALUE=DATE:20260428
DTEND;VALUE=DATE:20260429
DTSTAMP:20260421T134126
CREATED:20260308T064008Z
LAST-MODIFIED:20260308T064008Z
UID:8434-1777334400-1777420799@www.altruppersdorf.at
SUMMARY:Biotonne
DESCRIPTION:
URL:https://www.altruppersdorf.at/event/biotonne-116/
LOCATION:Altruppersdorf\, Altruppersdorf\, Niederösterreich\, 2135\, Österreich
CATEGORIES:Müllabfuhr
END:VEVENT
BEGIN:VEVENT
DTSTART;VALUE=DATE:20260430
DTEND;VALUE=DATE:20260501
DTSTAMP:20260421T134126
CREATED:20260308T064114Z
LAST-MODIFIED:20260308T064114Z
UID:8436-1777507200-1777593599@www.altruppersdorf.at
SUMMARY:Maibaumaufstellen
DESCRIPTION:
URL:https://www.altruppersdorf.at/event/maibaumaufstellen/
LOCATION:Dorfzentrum\, Obere Hauptstraße 21a\, Altruppersdorf\, Niederösterreich\, 2135\, Österreich
CATEGORIES:Veranstaltungen
END:VEVENT
BEGIN:VEVENT
DTSTART;VALUE=DATE:20260501
DTEND;VALUE=DATE:20260502
DTSTAMP:20260421T134126
CREATED:20260308T064149Z
LAST-MODIFIED:20260308T064149Z
UID:8438-1777593600-1777679999@www.altruppersdorf.at
SUMMARY:Grenzbegehung
DESCRIPTION:
URL:https://www.altruppersdorf.at/event/grenzbegehung-2/
LOCATION:Altruppersdorf\, Altruppersdorf\, Niederösterreich\, 2135\, Österreich
CATEGORIES:Veranstaltungen
END:VEVENT
BEGIN:VEVENT
DTSTART;VALUE=DATE:20260501
DTEND;VALUE=DATE:20260502
DTSTAMP:20260421T134126
CREATED:20260308T064218Z
LAST-MODIFIED:20260308T064218Z
UID:8440-1777593600-1777679999@www.altruppersdorf.at
SUMMARY:Staatsfeiertag
DESCRIPTION:
URL:https://www.altruppersdorf.at/event/staatsfeiertag-3/
LOCATION:Niederösterreich
CATEGORIES:Feiertage
END:VEVENT
BEGIN:VEVENT
DTSTART;VALUE=DATE:20260504
DTEND;VALUE=DATE:20260505
DTSTAMP:20260421T134126
CREATED:20260308T064312Z
LAST-MODIFIED:20260308T064312Z
UID:8442-1777852800-1777939199@www.altruppersdorf.at
SUMMARY:Papiertonne
DESCRIPTION:
URL:https://www.altruppersdorf.at/event/papiertonne-19/
LOCATION:Altruppersdorf\, Altruppersdorf\, Niederösterreich\, 2135\, Österreich
CATEGORIES:Müllabfuhr
END:VEVENT
BEGIN:VEVENT
DTSTART;VALUE=DATE:20260505
DTEND;VALUE=DATE:20260506
DTSTAMP:20260421T134126
CREATED:20260308T064336Z
LAST-MODIFIED:20260308T064336Z
UID:8444-1777939200-1778025599@www.altruppersdorf.at
SUMMARY:Biotonne
DESCRIPTION:
URL:https://www.altruppersdorf.at/event/biotonne-117/
LOCATION:Altruppersdorf\, Altruppersdorf\, Niederösterreich\, 2135\, Österreich
CATEGORIES:Müllabfuhr
END:VEVENT
BEGIN:VEVENT
DTSTART;VALUE=DATE:20260511
DTEND;VALUE=DATE:20260512
DTSTAMP:20260421T134126
CREATED:20260308T064409Z
LAST-MODIFIED:20260308T064409Z
UID:8446-1778457600-1778543999@www.altruppersdorf.at
SUMMARY:Restmüll
DESCRIPTION:
URL:https://www.altruppersdorf.at/event/restmuell-36/
LOCATION:Altruppersdorf\, Altruppersdorf\, Niederösterreich\, 2135\, Österreich
CATEGORIES:Müllabfuhr
END:VEVENT
BEGIN:VEVENT
DTSTART;VALUE=DATE:20260512
DTEND;VALUE=DATE:20260513
DTSTAMP:20260421T134126
CREATED:20260308T064431Z
LAST-MODIFIED:20260308T064431Z
UID:8448-1778544000-1778630399@www.altruppersdorf.at
SUMMARY:Biotonne
DESCRIPTION:
URL:https://www.altruppersdorf.at/event/biotonne-118/
LOCATION:Altruppersdorf\, Altruppersdorf\, Niederösterreich\, 2135\, Österreich
CATEGORIES:Müllabfuhr
END:VEVENT
BEGIN:VEVENT
DTSTART;VALUE=DATE:20260514
DTEND;VALUE=DATE:20260515
DTSTAMP:20260421T134126
CREATED:20260308T064503Z
LAST-MODIFIED:20260308T064503Z
UID:8450-1778716800-1778803199@www.altruppersdorf.at
SUMMARY:Christi Himmelfahrt
DESCRIPTION:
URL:https://www.altruppersdorf.at/event/christi-himmelfahrt-4/
LOCATION:Niederösterreich
CATEGORIES:Feiertage
END:VEVENT
BEGIN:VEVENT
DTSTART;VALUE=DATE:20260517
DTEND;VALUE=DATE:20260518
DTSTAMP:20260421T134126
CREATED:20260308T064533Z
LAST-MODIFIED:20260308T064533Z
UID:8452-1778976000-1779062399@www.altruppersdorf.at
SUMMARY:Grottefest
DESCRIPTION:
URL:https://www.altruppersdorf.at/event/grottefest-4/
LOCATION:Lourdesgrotte\, Grotteweg\, Altruppersdorf\, Niederösterreich\, 2135\, Österreich
CATEGORIES:Veranstaltungen
END:VEVENT
BEGIN:VEVENT
DTSTART;VALUE=DATE:20260519
DTEND;VALUE=DATE:20260520
DTSTAMP:20260421T134126
CREATED:20260308T064601Z
LAST-MODIFIED:20260308T064601Z
UID:8454-1779148800-1779235199@www.altruppersdorf.at
SUMMARY:Biotonne
DESCRIPTION:
URL:https://www.altruppersdorf.at/event/biotonne-119/
LOCATION:Altruppersdorf\, Altruppersdorf\, Niederösterreich\, 2135\, Österreich
CATEGORIES:Müllabfuhr
END:VEVENT
BEGIN:VEVENT
DTSTART;VALUE=DATE:20260520
DTEND;VALUE=DATE:20260521
DTSTAMP:20260421T134126
CREATED:20260308T064625Z
LAST-MODIFIED:20260308T064625Z
UID:8456-1779235200-1779321599@www.altruppersdorf.at
SUMMARY:Gelber Sack
DESCRIPTION:
URL:https://www.altruppersdorf.at/event/gelber-sack-33/
LOCATION:Altruppersdorf\, Altruppersdorf\, Niederösterreich\, 2135\, Österreich
CATEGORIES:Müllabfuhr
END:VEVENT
BEGIN:VEVENT
DTSTART;VALUE=DATE:20260524
DTEND;VALUE=DATE:20260525
DTSTAMP:20260421T134126
CREATED:20260308T064701Z
LAST-MODIFIED:20260308T064701Z
UID:8458-1779580800-1779667199@www.altruppersdorf.at
SUMMARY:Jugendfrühschoppen
DESCRIPTION:
URL:https://www.altruppersdorf.at/event/jugendfruehschoppen/
LOCATION:Jugendheim\, Obere Hauptstraße 21a\, Altruppersdorf\, Niederösterreich\, 2135\, Österreich
CATEGORIES:Veranstaltungen
END:VEVENT
END:VCALENDAR