BEGIN:VCALENDAR
VERSION:2.0
PRODID:-//Altruppersdorf - ECPv6.15.18//NONSGML v1.0//EN
CALSCALE:GREGORIAN
METHOD:PUBLISH
X-ORIGINAL-URL:https://www.altruppersdorf.at
X-WR-CALDESC:Veranstaltungen für Altruppersdorf
REFRESH-INTERVAL;VALUE=DURATION:PT1H
X-Robots-Tag:noindex
X-PUBLISHED-TTL:PT1H
BEGIN:VTIMEZONE
TZID:Europe/Vienna
BEGIN:DAYLIGHT
TZOFFSETFROM:+0100
TZOFFSETTO:+0200
TZNAME:CEST
DTSTART:20230326T010000
END:DAYLIGHT
BEGIN:STANDARD
TZOFFSETFROM:+0200
TZOFFSETTO:+0100
TZNAME:CET
DTSTART:20231029T010000
END:STANDARD
BEGIN:DAYLIGHT
TZOFFSETFROM:+0100
TZOFFSETTO:+0200
TZNAME:CEST
DTSTART:20240331T010000
END:DAYLIGHT
BEGIN:STANDARD
TZOFFSETFROM:+0200
TZOFFSETTO:+0100
TZNAME:CET
DTSTART:20241027T010000
END:STANDARD
BEGIN:DAYLIGHT
TZOFFSETFROM:+0100
TZOFFSETTO:+0200
TZNAME:CEST
DTSTART:20250330T010000
END:DAYLIGHT
BEGIN:STANDARD
TZOFFSETFROM:+0200
TZOFFSETTO:+0100
TZNAME:CET
DTSTART:20251026T010000
END:STANDARD
BEGIN:DAYLIGHT
TZOFFSETFROM:+0100
TZOFFSETTO:+0200
TZNAME:CEST
DTSTART:20260329T010000
END:DAYLIGHT
BEGIN:STANDARD
TZOFFSETFROM:+0200
TZOFFSETTO:+0100
TZNAME:CET
DTSTART:20261025T010000
END:STANDARD
BEGIN:DAYLIGHT
TZOFFSETFROM:+0100
TZOFFSETTO:+0200
TZNAME:CEST
DTSTART:20270328T010000
END:DAYLIGHT
BEGIN:STANDARD
TZOFFSETFROM:+0200
TZOFFSETTO:+0100
TZNAME:CET
DTSTART:20271031T010000
END:STANDARD
END:VTIMEZONE
BEGIN:VEVENT
DTSTART;VALUE=DATE:20260414
DTEND;VALUE=DATE:20260415
DTSTAMP:20260421T152149
CREATED:20260308T063838Z
LAST-MODIFIED:20260308T063838Z
UID:8428-1776124800-1776211199@www.altruppersdorf.at
SUMMARY:Biotonne
DESCRIPTION:
URL:https://www.altruppersdorf.at/event/biotonne-114/
LOCATION:Altruppersdorf\, Altruppersdorf\, Niederösterreich\, 2135\, Österreich
CATEGORIES:Müllabfuhr
END:VEVENT
BEGIN:VEVENT
DTSTART;VALUE=DATE:20260413
DTEND;VALUE=DATE:20260414
DTSTAMP:20260421T152149
CREATED:20260308T063817Z
LAST-MODIFIED:20260308T063817Z
UID:8426-1776038400-1776124799@www.altruppersdorf.at
SUMMARY:Restmüll
DESCRIPTION:
URL:https://www.altruppersdorf.at/event/restmuell-35/
LOCATION:Altruppersdorf\, Altruppersdorf\, Niederösterreich\, 2135\, Österreich
CATEGORIES:Müllabfuhr
END:VEVENT
BEGIN:VEVENT
DTSTART;VALUE=DATE:20260408
DTEND;VALUE=DATE:20260409
DTSTAMP:20260421T152149
CREATED:20260308T063750Z
LAST-MODIFIED:20260308T063750Z
UID:8424-1775606400-1775692799@www.altruppersdorf.at
SUMMARY:Gelber Sack
DESCRIPTION:
URL:https://www.altruppersdorf.at/event/gelber-sack-32/
LOCATION:Altruppersdorf\, Altruppersdorf\, Niederösterreich\, 2135\, Österreich
CATEGORIES:Müllabfuhr
END:VEVENT
BEGIN:VEVENT
DTSTART;VALUE=DATE:20260407
DTEND;VALUE=DATE:20260408
DTSTAMP:20260421T152149
CREATED:20260308T063712Z
LAST-MODIFIED:20260308T063712Z
UID:8422-1775520000-1775606399@www.altruppersdorf.at
SUMMARY:Biotonne
DESCRIPTION:
URL:https://www.altruppersdorf.at/event/biotonne-113/
LOCATION:Altruppersdorf\, Altruppersdorf\, Niederösterreich\, 2135\, Österreich
CATEGORIES:Müllabfuhr
END:VEVENT
BEGIN:VEVENT
DTSTART;VALUE=DATE:20260406
DTEND;VALUE=DATE:20260407
DTSTAMP:20260421T152149
CREATED:20260308T063555Z
LAST-MODIFIED:20260308T063555Z
UID:8420-1775433600-1775519999@www.altruppersdorf.at
SUMMARY:Ostermontag
DESCRIPTION:
URL:https://www.altruppersdorf.at/event/ostermontag-3/
LOCATION:Niederösterreich
CATEGORIES:Feiertage
END:VEVENT
BEGIN:VEVENT
DTSTART;VALUE=DATE:20260405
DTEND;VALUE=DATE:20260406
DTSTAMP:20260421T152149
CREATED:20260308T063502Z
LAST-MODIFIED:20260308T063537Z
UID:8418-1775347200-1775433599@www.altruppersdorf.at
SUMMARY:Ostersonntag
DESCRIPTION:
URL:https://www.altruppersdorf.at/event/ostersonntag-3/
LOCATION:Niederösterreich
CATEGORIES:Feiertage
END:VEVENT
BEGIN:VEVENT
DTSTART;VALUE=DATE:20260404
DTEND;VALUE=DATE:20260405
DTSTAMP:20260421T152149
CREATED:20260308T063437Z
LAST-MODIFIED:20260308T063437Z
UID:8416-1775260800-1775347199@www.altruppersdorf.at
SUMMARY:Karsamstag
DESCRIPTION:
URL:https://www.altruppersdorf.at/event/karsamstag-3/
LOCATION:Niederösterreich
CATEGORIES:Feiertage
END:VEVENT
BEGIN:VEVENT
DTSTART;VALUE=DATE:20260403
DTEND;VALUE=DATE:20260404
DTSTAMP:20260421T152149
CREATED:20260308T063417Z
LAST-MODIFIED:20260308T063417Z
UID:8414-1775174400-1775260799@www.altruppersdorf.at
SUMMARY:Karfreitag
DESCRIPTION:
URL:https://www.altruppersdorf.at/event/karfreitag-3/
LOCATION:Niederösterreich
CATEGORIES:Feiertage
END:VEVENT
BEGIN:VEVENT
DTSTART;VALUE=DATE:20260402
DTEND;VALUE=DATE:20260403
DTSTAMP:20260421T152149
CREATED:20260308T063351Z
LAST-MODIFIED:20260308T063351Z
UID:8412-1775088000-1775174399@www.altruppersdorf.at
SUMMARY:Gründonnerstag
DESCRIPTION:
URL:https://www.altruppersdorf.at/event/gruendonnerstag-3/
LOCATION:Niederösterreich
CATEGORIES:Feiertage
END:VEVENT
BEGIN:VEVENT
DTSTART;VALUE=DATE:20260331
DTEND;VALUE=DATE:20260401
DTSTAMP:20260421T152149
CREATED:20260308T063208Z
LAST-MODIFIED:20260308T063208Z
UID:8408-1774915200-1775001599@www.altruppersdorf.at
SUMMARY:Biotonne
DESCRIPTION:
URL:https://www.altruppersdorf.at/event/biotonne-112/
LOCATION:Altruppersdorf\, Altruppersdorf\, Niederösterreich\, 2135\, Österreich
CATEGORIES:Müllabfuhr
END:VEVENT
BEGIN:VEVENT
DTSTART;VALUE=DATE:20260329
DTEND;VALUE=DATE:20260330
DTSTAMP:20260421T152149
CREATED:20260308T063248Z
LAST-MODIFIED:20260308T063632Z
UID:8410-1774742400-1774828799@www.altruppersdorf.at
SUMMARY:Palmsonntag
DESCRIPTION:
URL:https://www.altruppersdorf.at/event/palmsonntag-3/
LOCATION:Pfarrkirche\, Kirchenweg 14\, Altruppersdorf\, Niederösterreich\, 2135\, Österreich
CATEGORIES:Feiertage
END:VEVENT
BEGIN:VEVENT
DTSTART;VALUE=DATE:20260328
DTEND;VALUE=DATE:20260329
DTSTAMP:20260421T152149
CREATED:20260308T063057Z
LAST-MODIFIED:20260308T063057Z
UID:8406-1774656000-1774742399@www.altruppersdorf.at
SUMMARY:Flurreinigung
DESCRIPTION:
URL:https://www.altruppersdorf.at/event/flurreinigung-2/
LOCATION:Altruppersdorf\, Altruppersdorf\, Niederösterreich\, 2135\, Österreich
CATEGORIES:Sonstiges
END:VEVENT
BEGIN:VEVENT
DTSTART;VALUE=DATE:20260322
DTEND;VALUE=DATE:20260323
DTSTAMP:20260421T152149
CREATED:20260308T063011Z
LAST-MODIFIED:20260308T063011Z
UID:8404-1774137600-1774223999@www.altruppersdorf.at
SUMMARY:Grottekreuzweg
DESCRIPTION:
URL:https://www.altruppersdorf.at/event/grottekreuzweg/
LOCATION:Lourdesgrotte\, Grotteweg\, Altruppersdorf\, Niederösterreich\, 2135\, Österreich
CATEGORIES:Veranstaltungen
END:VEVENT
BEGIN:VEVENT
DTSTART;VALUE=DATE:20260321
DTEND;VALUE=DATE:20260322
DTSTAMP:20260421T152149
CREATED:20260308T062932Z
LAST-MODIFIED:20260308T062932Z
UID:8401-1774051200-1774137599@www.altruppersdorf.at
SUMMARY:Dorfreinigung
DESCRIPTION:
URL:https://www.altruppersdorf.at/event/dorfreinigung/
LOCATION:Altruppersdorf\, Altruppersdorf\, Niederösterreich\, 2135\, Österreich
CATEGORIES:Sonstiges
END:VEVENT
BEGIN:VEVENT
DTSTART;VALUE=DATE:20260317
DTEND;VALUE=DATE:20260318
DTSTAMP:20260421T152149
CREATED:20260308T062823Z
LAST-MODIFIED:20260308T062823Z
UID:8399-1773705600-1773791999@www.altruppersdorf.at
SUMMARY:Biotonne
DESCRIPTION:
URL:https://www.altruppersdorf.at/event/biotonne-111/
LOCATION:Altruppersdorf\, Altruppersdorf\, Niederösterreich\, 2135\, Österreich
CATEGORIES:Müllabfuhr
END:VEVENT
BEGIN:VEVENT
DTSTART;VALUE=DATE:20260316
DTEND;VALUE=DATE:20260317
DTSTAMP:20260421T152149
CREATED:20260308T062758Z
LAST-MODIFIED:20260308T062758Z
UID:8397-1773619200-1773705599@www.altruppersdorf.at
SUMMARY:Restmüll
DESCRIPTION:
URL:https://www.altruppersdorf.at/event/restmuell-34/
LOCATION:Altruppersdorf\, Altruppersdorf\, Niederösterreich\, 2135\, Österreich
CATEGORIES:Müllabfuhr
END:VEVENT
BEGIN:VEVENT
DTSTART;VALUE=DATE:20260314
DTEND;VALUE=DATE:20260315
DTSTAMP:20260421T152149
CREATED:20260308T062625Z
LAST-MODIFIED:20260308T062638Z
UID:8393-1773446400-1773532799@www.altruppersdorf.at
SUMMARY:Radler-Rast-Opening
DESCRIPTION:
URL:https://www.altruppersdorf.at/event/radler-rast-opening/
LOCATION:RadlerRast\, Obere Hauptstraße 21\, Altruppersdorf\, Niederösterreich\, 2135
CATEGORIES:Veranstaltungen
END:VEVENT
BEGIN:VEVENT
DTSTART;VALUE=DATE:20260309
DTEND;VALUE=DATE:20260310
DTSTAMP:20260421T152149
CREATED:20260308T062126Z
LAST-MODIFIED:20260308T062126Z
UID:8391-1773014400-1773100799@www.altruppersdorf.at
SUMMARY:Papiertonne
DESCRIPTION:
URL:https://www.altruppersdorf.at/event/papiertonne-18/
LOCATION:Altruppersdorf\, Altruppersdorf\, Niederösterreich\, 2135\, Österreich
CATEGORIES:Müllabfuhr
END:VEVENT
BEGIN:VEVENT
DTSTART;VALUE=DATE:20250101
DTEND;VALUE=DATE:20250102
DTSTAMP:20260421T152149
CREATED:20240206T095336Z
LAST-MODIFIED:20240206T095336Z
UID:7062-1735689600-1735775999@www.altruppersdorf.at
SUMMARY:Neujahr
DESCRIPTION:
URL:https://www.altruppersdorf.at/event/neujahr-3/
LOCATION:Niederösterreich
CATEGORIES:Feiertage
END:VEVENT
BEGIN:VEVENT
DTSTART;VALUE=DATE:20241231
DTEND;VALUE=DATE:20250101
DTSTAMP:20260421T152149
CREATED:20240206T095306Z
LAST-MODIFIED:20240206T095306Z
UID:7060-1735603200-1735689599@www.altruppersdorf.at
SUMMARY:Silvester
DESCRIPTION:
URL:https://www.altruppersdorf.at/event/silvester-3/
LOCATION:Niederösterreich
CATEGORIES:Sonstiges
END:VEVENT
BEGIN:VEVENT
DTSTART;VALUE=DATE:20241226
DTEND;VALUE=DATE:20241227
DTSTAMP:20260421T152149
CREATED:20240206T095229Z
LAST-MODIFIED:20240206T095229Z
UID:7058-1735171200-1735257599@www.altruppersdorf.at
SUMMARY:Stephanitag
DESCRIPTION:
URL:https://www.altruppersdorf.at/event/stephanitag-3/
LOCATION:Niederösterreich
CATEGORIES:Feiertage
END:VEVENT
BEGIN:VEVENT
DTSTART;VALUE=DATE:20241225
DTEND;VALUE=DATE:20241226
DTSTAMP:20260421T152149
CREATED:20240206T095158Z
LAST-MODIFIED:20240206T095158Z
UID:7056-1735084800-1735171199@www.altruppersdorf.at
SUMMARY:Christtag
DESCRIPTION:
URL:https://www.altruppersdorf.at/event/christtag-3/
LOCATION:Niederösterreich
CATEGORIES:Feiertage
END:VEVENT
BEGIN:VEVENT
DTSTART;VALUE=DATE:20241224
DTEND;VALUE=DATE:20241225
DTSTAMP:20260421T152149
CREATED:20240206T095134Z
LAST-MODIFIED:20240206T095134Z
UID:7054-1734998400-1735084799@www.altruppersdorf.at
SUMMARY:Heiliger Abend
DESCRIPTION:
URL:https://www.altruppersdorf.at/event/heiliger-abend-3/
LOCATION:Niederösterreich
CATEGORIES:Sonstiges
END:VEVENT
BEGIN:VEVENT
DTSTART;VALUE=DATE:20241224
DTEND;VALUE=DATE:20241225
DTSTAMP:20260421T152149
CREATED:20240206T095102Z
LAST-MODIFIED:20240206T095102Z
UID:7052-1734998400-1735084799@www.altruppersdorf.at
SUMMARY:Christmette
DESCRIPTION:
URL:https://www.altruppersdorf.at/event/christmette-3/
LOCATION:Pfarrkirche\, Kirchenweg 14\, Altruppersdorf\, Niederösterreich\, 2135\, Österreich
CATEGORIES:Veranstaltungen
END:VEVENT
BEGIN:VEVENT
DTSTART;VALUE=DATE:20241224
DTEND;VALUE=DATE:20241225
DTSTAMP:20260421T152149
CREATED:20240206T095011Z
LAST-MODIFIED:20240206T095031Z
UID:7050-1734998400-1735084799@www.altruppersdorf.at
SUMMARY:Turmblasen
DESCRIPTION:
URL:https://www.altruppersdorf.at/event/turmblasen-3/
LOCATION:Pfarrkirche\, Kirchenweg 14\, Altruppersdorf\, Niederösterreich\, 2135\, Österreich
CATEGORIES:Veranstaltungen
END:VEVENT
BEGIN:VEVENT
DTSTART;VALUE=DATE:20241224
DTEND;VALUE=DATE:20241225
DTSTAMP:20260421T152149
CREATED:20240206T094935Z
LAST-MODIFIED:20240206T094935Z
UID:7048-1734998400-1735084799@www.altruppersdorf.at
SUMMARY:Beginn Weihnachtsferien
DESCRIPTION:
URL:https://www.altruppersdorf.at/event/beginn-weihnachtsferien-3/
LOCATION:Niederösterreich
CATEGORIES:Sonstiges
END:VEVENT
BEGIN:VEVENT
DTSTART;VALUE=DATE:20241223
DTEND;VALUE=DATE:20241224
DTSTAMP:20260421T152149
CREATED:20240206T094910Z
LAST-MODIFIED:20240206T094910Z
UID:7046-1734912000-1734998399@www.altruppersdorf.at
SUMMARY:Biotonne
DESCRIPTION:
URL:https://www.altruppersdorf.at/event/biotonne-110/
LOCATION:Altruppersdorf\, Altruppersdorf\, Niederösterreich\, 2135\, Österreich
CATEGORIES:Müllabfuhr
END:VEVENT
BEGIN:VEVENT
DTSTART;VALUE=DATE:20241223
DTEND;VALUE=DATE:20241224
DTSTAMP:20260421T152149
CREATED:20240206T094839Z
LAST-MODIFIED:20240206T094839Z
UID:7044-1734912000-1734998399@www.altruppersdorf.at
SUMMARY:Restmüll
DESCRIPTION:
URL:https://www.altruppersdorf.at/event/restmuell-33/
LOCATION:Altruppersdorf\, Altruppersdorf\, Niederösterreich\, 2135\, Österreich
CATEGORIES:Müllabfuhr
END:VEVENT
BEGIN:VEVENT
DTSTART;VALUE=DATE:20241222
DTEND;VALUE=DATE:20241223
DTSTAMP:20260421T152149
CREATED:20240206T094801Z
LAST-MODIFIED:20240206T094801Z
UID:7042-1734825600-1734911999@www.altruppersdorf.at
SUMMARY:4. Advent
DESCRIPTION:
URL:https://www.altruppersdorf.at/event/4-advent/
LOCATION:Niederösterreich
CATEGORIES:Sonstiges
END:VEVENT
BEGIN:VEVENT
DTSTART;VALUE=DATE:20241221
DTEND;VALUE=DATE:20241222
DTSTAMP:20260421T152149
CREATED:20240206T094705Z
LAST-MODIFIED:20240206T094705Z
UID:7039-1734739200-1734825599@www.altruppersdorf.at
SUMMARY:Glühweinstand - Ab Hof Wiesmann
DESCRIPTION:
URL:https://www.altruppersdorf.at/event/gluehweinstand-ab-hof-wiesmann/
LOCATION:Ab Hof Wiesmann\, Föllimerstraße 20\, Altruppersdorf\, Niederösterreich\, 2135\, Österreich
CATEGORIES:Veranstaltungen
END:VEVENT
END:VCALENDAR